BEGIN:VCALENDAR
VERSION:2.0
PRODID:-//Motorworld Inn Mallorca - ECPv6.15.17.1//NONSGML v1.0//EN
CALSCALE:GREGORIAN
METHOD:PUBLISH
X-WR-CALNAME:Motorworld Inn Mallorca
X-ORIGINAL-URL:https://mallorca.motorworld-inn.de/es/
X-WR-CALDESC:Eventos para Motorworld Inn Mallorca
REFRESH-INTERVAL;VALUE=DURATION:PT1H
X-Robots-Tag:noindex
X-PUBLISHED-TTL:PT1H
BEGIN:VTIMEZONE
TZID:Europe/Berlin
BEGIN:DAYLIGHT
TZOFFSETFROM:+0100
TZOFFSETTO:+0200
TZNAME:CEST
DTSTART:20250330T010000
END:DAYLIGHT
BEGIN:STANDARD
TZOFFSETFROM:+0200
TZOFFSETTO:+0100
TZNAME:CET
DTSTART:20251026T010000
END:STANDARD
BEGIN:DAYLIGHT
TZOFFSETFROM:+0100
TZOFFSETTO:+0200
TZNAME:CEST
DTSTART:20260329T010000
END:DAYLIGHT
BEGIN:STANDARD
TZOFFSETFROM:+0200
TZOFFSETTO:+0100
TZNAME:CET
DTSTART:20261025T010000
END:STANDARD
BEGIN:DAYLIGHT
TZOFFSETFROM:+0100
TZOFFSETTO:+0200
TZNAME:CEST
DTSTART:20270328T010000
END:DAYLIGHT
BEGIN:STANDARD
TZOFFSETFROM:+0200
TZOFFSETTO:+0100
TZNAME:CET
DTSTART:20271031T010000
END:STANDARD
END:VTIMEZONE
BEGIN:VEVENT
DTSTART;TZID=Europe/Berlin:20260424T190000
DTEND;TZID=Europe/Berlin:20260424T220000
DTSTAMP:20260420T155342
CREATED:20260224T155302Z
LAST-MODIFIED:20260326T153024Z
UID:8064-1777057200-1777068000@mallorca.motorworld-inn.de
SUMMARY:PASTA LA VISTA
DESCRIPTION:Bienvenido a PASTA LA VISTA en MOTORWORLD Inn Mallorca – donde la pasta\, la pizza y las largas veladas se convierten en una forma de vida.\nTodos los segundos viernes a partir de las 19.00 h en MOTORWORLD Inn Mallorca. Para todos los que quieren empezar bien el fin de semana.  \nTe esperan pasta y pizza recién preparadas\, así como un variado bufé mediterráneo con entrantes\, clásicos salados y varios postres para disfrutar y compartir. La experiencia se complementa con varias estaciones en vivo\, donde los tagliatelle frescos se mezclan directamente en un pan de parmesano y las especialidades selectas de jamón y queso se cortan en lonchas frescas y se presentan con estilo.  \nRematado con Aperol frío\, vinos selectos\, sonidos relajados y un ambiente armonioso. \nPrecio por persona: 39\,90 € (más bebidas) \nReserva la fecha. Trae a tus amigos. Quédate un poco más.   \nReserva ya una mesa en\nMotorworld Inn Mallorca – Gastronauta Reservas
URL:https://mallorca.motorworld-inn.de/es/event/pasta-la-vista-5/
ATTACH;FMTTYPE=image/png:https://mallorca.motorworld-inn.de/wp-content/uploads/2026/02/Pasta-La-Vista-Key-Visual_mit-Logo_10.png
END:VEVENT
BEGIN:VEVENT
DTSTART;TZID=Europe/Berlin:20260426T100000
DTEND;TZID=Europe/Berlin:20260426T140000
DTSTAMP:20260420T155342
CREATED:20260320T144918Z
LAST-MODIFIED:20260323T163351Z
UID:8156-1777197600-1777212000@mallorca.motorworld-inn.de
SUMMARY:BREAKFAST CLUB
DESCRIPTION:Bienvenido al BREAKFAST CLUB del MOTORWORLD Inn Mallorca\, donde el desayuno\, las bebidas y la buena conversación se convierten en una forma de vida. \nUna experiencia para todos aquellos que quieren algo más que desayunar. Te espera el DJ Chris Marina\, bebidas espumosas y un lugar en el que querrás estar.   Siempre de 10 a 14 h. \nNuestro exclusivo desayuno bufé ofrece una deliciosa selección de clásicos del desayuno en un ambiente único: en el interior climatizado con un gran bar o en el exterior bajo los históricos molinos de viento: tú eliges. \nEmpieza tu desayuno con una copa de mimosa\, seguida de una variedad de desayunos cuidadosamente preparados y estaciones de cocina en vivo. Disfruta de especialidades de café\, zumos frescos del bar de zumos\, tés aromáticos y batidos caseros\, todo incluido en el precio por 34\,90 € por persona.  \nReserva la fecha. Trae a tus amigos. Vive el ambiente.\nReserva mesa ahora en Motorworld Inn Mallorca – Gastronauta Reservas
URL:https://mallorca.motorworld-inn.de/es/event/breakfast-club-19/
LOCATION:Motorworld Inn Mallorca\, Palma de Mallorca\, 07007\, Spain
ATTACH;FMTTYPE=image/jpeg:https://mallorca.motorworld-inn.de/wp-content/uploads/2025/09/Breakfast-Club5.jpg
END:VEVENT
BEGIN:VEVENT
DTSTART;TZID=Europe/Berlin:20260430T190000
DTEND;TZID=Europe/Berlin:20260430T220000
DTSTAMP:20260420T155342
CREATED:20260310T151759Z
LAST-MODIFIED:20260310T151759Z
UID:8075-1777575600-1777586400@mallorca.motorworld-inn.de
SUMMARY:BBQ NIGHT
DESCRIPTION:¡Bienvenido a la NOCHE DE BBQ en MOTORWORLD Inn Mallorca! \nEl olor a brasas\, carne a la parrilla y hierbas frescas recorre el Motorworld Inn Mallorca. \nDisfruta de una barbacoa en directo del maestro parrillero \, con sofisticadas creaciones\, deliciosos platos de acompañamiento y quizá incluso algún que otro consejo secreto sobre barbacoas\, directamente del profesional. Disfruta de exquisitos vinos y bebidas refrescantes. Como bebida de bienvenida\, te serviremos una copa de aperitivo cortesía de la casa. ¡Nuestra banda en directo proporcionará el ambiente perfecto!    \nReserva ahora por 49\,90 por persona \, incluida una copa de aperitivo!\nReservas en Motorworld Inn Mallorca Gastronauta Reservas
URL:https://mallorca.motorworld-inn.de/es/event/bbq-night/
ATTACH;FMTTYPE=image/jpeg:https://mallorca.motorworld-inn.de/wp-content/uploads/2025/10/BBQ1.jpg
END:VEVENT
BEGIN:VEVENT
DTSTART;TZID=Europe/Berlin:20260508T190000
DTEND;TZID=Europe/Berlin:20260508T220000
DTSTAMP:20260420T155342
CREATED:20260224T163114Z
LAST-MODIFIED:20260326T152917Z
UID:8066-1778266800-1778277600@mallorca.motorworld-inn.de
SUMMARY:PASTA LA VISTA
DESCRIPTION:Bienvenido a PASTA LA VISTA en MOTORWORLD Inn Mallorca – donde la pasta\, la pizza y las largas veladas se convierten en una forma de vida.\nTodos los segundos viernes a partir de las 19.00 h en MOTORWORLD Inn Mallorca. Para todos los que quieren empezar bien el fin de semana.  \nTe esperan pasta y pizza recién preparadas\, así como un variado bufé mediterráneo con entrantes\, clásicos salados y varios postres para disfrutar y compartir. La experiencia se complementa con varias estaciones en vivo\, donde los tagliatelle frescos se mezclan directamente en un pan de parmesano y las especialidades selectas de jamón y queso se cortan en lonchas frescas y se presentan con estilo.  \nRematado con Aperol frío\, vinos selectos\, sonidos relajados y un ambiente armonioso. \nPrecio por persona: 39\,90 € (más bebidas) \nReserva la fecha. Trae a tus amigos. Quédate un poco más.   \nReserva ya una mesa en\nMotorworld Inn Mallorca – Gastronauta Reservas
URL:https://mallorca.motorworld-inn.de/es/event/pasta-la-vista-6/
ATTACH;FMTTYPE=image/png:https://mallorca.motorworld-inn.de/wp-content/uploads/2026/02/Pasta-La-Vista-Key-Visual_mit-Logo_11.png
END:VEVENT
BEGIN:VEVENT
DTSTART;TZID=Europe/Berlin:20260522T190000
DTEND;TZID=Europe/Berlin:20260522T220000
DTSTAMP:20260420T155342
CREATED:20260414T080603Z
LAST-MODIFIED:20260414T080603Z
UID:8265-1779476400-1779487200@mallorca.motorworld-inn.de
SUMMARY:PASTA LA VISTA
DESCRIPTION:Bienvenido a PASTA LA VISTA en MOTORWORLD Inn Mallorca – donde la pasta\, la pizza y las largas veladas se convierten en una forma de vida.\nTodos los segundos viernes a partir de las 19.00 h en MOTORWORLD Inn Mallorca. Para todos los que quieren empezar bien el fin de semana.  \nTe esperan pasta y pizza recién preparadas\, así como un variado bufé mediterráneo con entrantes\, clásicos salados y varios postres para disfrutar y compartir. La experiencia se complementa con varias estaciones en vivo\, donde los tagliatelle frescos se mezclan directamente en un pan de parmesano y las especialidades selectas de jamón y queso se cortan en lonchas frescas y se presentan con estilo.  \nRematado con Aperol frío\, vinos selectos\, sonidos relajados y un ambiente armonioso. \nPrecio por persona: 39\,90 € (más bebidas)\nGuardar la fecha. Trae a tus amigos. Quédate un poco más.   \nReserva ya una mesa en\nMotorworld Inn Mallorca – Gastronauta Reservas
URL:https://mallorca.motorworld-inn.de/es/event/pasta-la-vista-7/
LOCATION:Motorworld Inn Mallorca\, Palma de Mallorca\, 07007\, Spain
ATTACH;FMTTYPE=image/png:https://mallorca.motorworld-inn.de/wp-content/uploads/2026/02/Pasta-La-Vista-Key-Visual_mit-Logo_2.png
END:VEVENT
BEGIN:VEVENT
DTSTART;TZID=Europe/Berlin:20260530T190000
DTEND;TZID=Europe/Berlin:20260530T220000
DTSTAMP:20260420T155342
CREATED:20260420T121934Z
LAST-MODIFIED:20260420T121934Z
UID:8269-1780167600-1780178400@mallorca.motorworld-inn.de
SUMMARY:BBQ NIGHT
DESCRIPTION:¡Bienvenido a la NOCHE DE BBQ en MOTORWORLD Inn Mallorca! \nEl olor a brasas\, carne a la parrilla y hierbas frescas recorre el Motorworld Inn Mallorca. \nDisfruta de una barbacoa en directo del maestro parrillero \, con sofisticadas creaciones\, deliciosos platos de acompañamiento y quizá incluso algún que otro consejo secreto sobre barbacoas\, directamente del profesional. Disfruta de exquisitos vinos y bebidas refrescantes. Como bebida de bienvenida\, te serviremos una copa de aperitivo cortesía de la casa. ¡Nuestra banda en directo proporcionará el ambiente perfecto!    \nReserva ahora por 49\,90 por persona \, incluida una copa de aperitivo!\nReservas en Motorworld Inn Mallorca Gastronauta Reservas
URL:https://mallorca.motorworld-inn.de/es/event/bbq-night-7/
LOCATION:Motorworld Inn Mallorca\, Palma de Mallorca\, 07007\, Spain
ATTACH;FMTTYPE=image/png:https://mallorca.motorworld-inn.de/wp-content/uploads/2026/04/BBQ-Event_quadratisch.png
END:VEVENT
BEGIN:VEVENT
DTSTART;TZID=Europe/Berlin:20260627T190000
DTEND;TZID=Europe/Berlin:20260627T220000
DTSTAMP:20260420T155342
CREATED:20260414T072113Z
LAST-MODIFIED:20260414T072113Z
UID:8258-1782586800-1782597600@mallorca.motorworld-inn.de
SUMMARY:BBQ NIGHT
DESCRIPTION:¡Bienvenido a la NOCHE DE BBQ en MOTORWORLD Inn Mallorca! \nEl olor a brasas\, carne a la parrilla y hierbas frescas recorre el Motorworld Inn Mallorca. \nDisfruta de una barbacoa en directo del maestro parrillero \, con sofisticadas creaciones\, deliciosos platos de acompañamiento y quizá incluso algún que otro consejo secreto sobre barbacoas\, directamente del profesional. Disfruta de exquisitos vinos y bebidas refrescantes. Como bebida de bienvenida\, te serviremos una copa de aperitivo cortesía de la casa. ¡Nuestra banda en directo proporcionará el ambiente perfecto!    \nReserva ahora por 49\,90 por persona \, incluida una copa de aperitivo!\nReservas en Motorworld Inn Mallorca Gastronauta Reservas
URL:https://mallorca.motorworld-inn.de/es/event/bbq-night-6/
LOCATION:Motorworld Inn Mallorca\, Palma de Mallorca\, 07007\, Spain
ATTACH;FMTTYPE=image/png:https://mallorca.motorworld-inn.de/wp-content/uploads/2026/04/BBQ-Event_quadratisch_4.png
END:VEVENT
BEGIN:VEVENT
DTSTART;TZID=Europe/Berlin:20260725T190000
DTEND;TZID=Europe/Berlin:20260725T220000
DTSTAMP:20260420T155342
CREATED:20260414T072311Z
LAST-MODIFIED:20260414T072311Z
UID:8254-1785006000-1785016800@mallorca.motorworld-inn.de
SUMMARY:BBQ NIGHT
DESCRIPTION:¡Bienvenido a la NOCHE DE BBQ en MOTORWORLD Inn Mallorca! \nEl olor a brasas\, carne a la parrilla y hierbas frescas recorre el Motorworld Inn Mallorca. \nDisfruta de una barbacoa en directo del maestro parrillero \, con sofisticadas creaciones\, deliciosos platos de acompañamiento y quizá incluso algún que otro consejo secreto sobre barbacoas\, directamente del profesional. Disfruta de exquisitos vinos y bebidas refrescantes. Como bebida de bienvenida\, te serviremos una copa de aperitivo cortesía de la casa. ¡Nuestra banda en directo proporcionará el ambiente perfecto!    \nReserva ahora por 49\,90 por persona \, incluida una copa de aperitivo!\nReservas en Motorworld Inn Mallorca Gastronauta Reservas
URL:https://mallorca.motorworld-inn.de/es/event/bbq-night-5/
LOCATION:Motorworld Inn Mallorca\, Palma de Mallorca\, 07007\, Spain
ATTACH;FMTTYPE=image/jpeg:https://mallorca.motorworld-inn.de/wp-content/uploads/2025/10/BBQ2.jpg
END:VEVENT
BEGIN:VEVENT
DTSTART;TZID=Europe/Berlin:20260822T190000
DTEND;TZID=Europe/Berlin:20260822T220000
DTSTAMP:20260420T155342
CREATED:20260414T073324Z
LAST-MODIFIED:20260414T073324Z
UID:8251-1787425200-1787436000@mallorca.motorworld-inn.de
SUMMARY:BBQ NIGHT
DESCRIPTION:¡Bienvenido a la NOCHE DE BBQ en MOTORWORLD Inn Mallorca! \nEl olor a brasas\, carne a la parrilla y hierbas frescas recorre el Motorworld Inn Mallorca. \nDisfruta de una barbacoa en directo del maestro parrillero \, con sofisticadas creaciones\, deliciosos platos de acompañamiento y quizá incluso algún que otro consejo secreto sobre barbacoas\, directamente del profesional. Disfruta de exquisitos vinos y bebidas refrescantes. Como bebida de bienvenida\, te serviremos una copa de aperitivo cortesía de la casa. ¡Nuestra banda en directo proporcionará el ambiente perfecto!    \nReserva ahora por 49\,90 por persona \, incluida una copa de aperitivo!\nReservas en Motorworld Inn Mallorca Gastronauta Reservas
URL:https://mallorca.motorworld-inn.de/es/event/bbq-night-4/
LOCATION:Motorworld Inn Mallorca\, Palma de Mallorca\, 07007\, Spain
ATTACH;FMTTYPE=image/png:https://mallorca.motorworld-inn.de/wp-content/uploads/2026/04/BBQ-Event_quadratisch.png
END:VEVENT
BEGIN:VEVENT
DTSTART;TZID=Europe/Berlin:20260919T190000
DTEND;TZID=Europe/Berlin:20260919T220000
DTSTAMP:20260420T155342
CREATED:20260414T074237Z
LAST-MODIFIED:20260414T074237Z
UID:8246-1789844400-1789855200@mallorca.motorworld-inn.de
SUMMARY:BBQ NIGHT
DESCRIPTION:¡Bienvenido a la NOCHE DE BBQ en MOTORWORLD Inn Mallorca! \nEl olor a brasas\, carne a la parrilla y hierbas frescas recorre el Motorworld Inn Mallorca. \nDisfruta de una barbacoa en directo del maestro parrillero \, con sofisticadas creaciones\, deliciosos platos de acompañamiento y quizá incluso algún que otro consejo secreto sobre barbacoas\, directamente del profesional. Disfruta de exquisitos vinos y bebidas refrescantes. Como bebida de bienvenida\, te serviremos una copa de aperitivo cortesía de la casa. ¡Nuestra banda en directo proporcionará el ambiente perfecto!    \nReserva ahora por 49\,90 por persona \, incluida una copa de aperitivo!\nReservas en Motorworld Inn Mallorca Gastronauta Reservas
URL:https://mallorca.motorworld-inn.de/es/event/bbq-night-3/
LOCATION:Motorworld Inn Mallorca\, Palma de Mallorca\, 07007\, Spain
ATTACH;FMTTYPE=image/jpeg:https://mallorca.motorworld-inn.de/wp-content/uploads/2025/10/BBQ1.jpg
END:VEVENT
BEGIN:VEVENT
DTSTART;TZID=Europe/Berlin:20261017T190000
DTEND;TZID=Europe/Berlin:20261017T220000
DTSTAMP:20260420T155342
CREATED:20260414T074428Z
LAST-MODIFIED:20260414T074428Z
UID:8243-1792263600-1792274400@mallorca.motorworld-inn.de
SUMMARY:BBQ NIGHT
DESCRIPTION:¡Bienvenido a la NOCHE DE BBQ en MOTORWORLD Inn Mallorca! \nEl olor a brasas\, carne a la parrilla y hierbas frescas recorre el Motorworld Inn Mallorca. \nDisfruta de una barbacoa en directo del maestro parrillero \, con sofisticadas creaciones\, deliciosos platos de acompañamiento y quizá incluso algún que otro consejo secreto sobre barbacoas\, directamente del profesional. Disfruta de exquisitos vinos y bebidas refrescantes. Como bebida de bienvenida\, te serviremos una copa de aperitivo cortesía de la casa. ¡Nuestra banda en directo proporcionará el ambiente perfecto!    \nReserva ahora por 49\,90 por persona \, incluida una copa de aperitivo!\nReservas en Motorworld Inn Mallorca Gastronauta Reservas
URL:https://mallorca.motorworld-inn.de/es/event/bbq-night-2/
LOCATION:Motorworld Inn Mallorca\, Palma de Mallorca\, 07007\, Spain
ATTACH;FMTTYPE=image/png:https://mallorca.motorworld-inn.de/wp-content/uploads/2026/04/BBQ-Event_quadratisch_2.png
END:VEVENT
END:VCALENDAR